
BEGIN:VCALENDAR
VERSION:2.0
PRODID:-//Théâtre de Givors - ECPv5.6.0//NONSGML v1.0//EN
CALSCALE:GREGORIAN
METHOD:PUBLISH
X-WR-CALNAME:Théâtre de Givors
X-ORIGINAL-URL:https://theatredegivors.fr
X-WR-CALDESC:évènements pour Théâtre de Givors
BEGIN:VTIMEZONE
TZID:Europe/Paris
BEGIN:DAYLIGHT
TZOFFSETFROM:+0100
TZOFFSETTO:+0200
TZNAME:CEST
DTSTART:20260329T010000
END:DAYLIGHT
BEGIN:STANDARD
TZOFFSETFROM:+0200
TZOFFSETTO:+0100
TZNAME:CET
DTSTART:20261025T010000
END:STANDARD
END:VTIMEZONE
BEGIN:VEVENT
DTSTART;TZID=Europe/Paris:20260328T170000
DTEND;TZID=Europe/Paris:20260328T183000
DTSTAMP:20260421T123252
CREATED:20250613T173041Z
LAST-MODIFIED:20250611T134327Z
UID:19088-1774717200-1774722600@theatredegivors.fr
SUMMARY:Spectacles de fin d'année - Ateliers théâtre
DESCRIPTION:Spectacles de fin d’année\nAteliers théâtre\nQuelque soit votre âge ou celui de votre enfant\, venez découvrir la présentation de fin d’année des ateliers théâtre qui se sont déroulés avec Dominique Chenet et Mehdi Belhaouane durant toute l’année. \nUne après-midi festive et bienveillante\, où les groupes se mêlent et se rencontrent\, où les parents s’émeuvent\, et où certains et certaines prennent des idées pour l’année suivante… \nVous découvrirez plusieurs groupes\, de 6 ans jusqu’aux adultes. \nÀ l’issue des présentations\, un grand buffet convivial sera disponible et les inscriptions pour la saison prochaine seront ouvertes.
URL:https://theatredegivors.fr/spectacle/spectacles-de-fin-dannee-ateliers-theatre/
LOCATION:Théâtre de Givors\, 2 Rue Puits Ollier\, Givors\, 69700
CATEGORIES:Gratuit,Saison 2025-2026,Théâtre
GEO:40.5095336;-74.2470646
X-APPLE-STRUCTURED-LOCATION;VALUE=URI;X-ADDRESS=Théâtre de Givors 2 Rue Puits Ollier Givors 69700;X-APPLE-RADIUS=500;X-TITLE=2 Rue Puits Ollier:geo:-74.2470646,40.5095336
END:VEVENT
END:VCALENDAR