
BEGIN:VCALENDAR
VERSION:2.0
PRODID:-//Théâtre de Givors - ECPv5.6.0//NONSGML v1.0//EN
CALSCALE:GREGORIAN
METHOD:PUBLISH
X-WR-CALNAME:Théâtre de Givors
X-ORIGINAL-URL:https://theatredegivors.fr
X-WR-CALDESC:évènements pour Théâtre de Givors
BEGIN:VTIMEZONE
TZID:Europe/Paris
BEGIN:DAYLIGHT
TZOFFSETFROM:+0100
TZOFFSETTO:+0200
TZNAME:CEST
DTSTART:20250330T010000
END:DAYLIGHT
BEGIN:STANDARD
TZOFFSETFROM:+0200
TZOFFSETTO:+0100
TZNAME:CET
DTSTART:20251026T010000
END:STANDARD
END:VTIMEZONE
BEGIN:VEVENT
DTSTART;TZID=Europe/Paris:20251002T200000
DTEND;TZID=Europe/Paris:20251002T210000
DTSTAMP:20260424T184134
CREATED:20250613T173012Z
LAST-MODIFIED:20250924T154540Z
UID:19047-1759435200-1759438800@theatredegivors.fr
SUMMARY:Jackpot - Collectif ÈS (Danse)
DESCRIPTION:Jackpot\n\n	Collectif ÈS\n\nLe jackpot est une combinaison de symboles qui permet de remporter le gros lot ; somme facilement et rapidement gagnée. \nCompter jusqu’à 100\, spontanément\, en prenant la parole à tour de rôle\, sans que plusieurs personnes ne parlent en même temps ? C’est le défi lancé par le Collectif ÈS. \nÀ chaque « raté »\, les interprètes réaliseront un extrait de leur répertoire. \nMais attention ! Interdiction de quitter la salle tant que le défi n’est pas relevé. \nEt cela peut prendre des heures. \nVoire des jours… \n\n\n\nCe spectacle est accessible aux personnes déficientes auditives\, motrices et mentales. Nous portons une attention particulière aux différents types de handicap\, n’hésitez pas à nous contacter. \n\n\n	Vous avez envie de voir Jackpot ? Réservez dès maintenant !\n\n\n\n\n\n\n  \n\nDisciplines : Danse.\nLieu : Salle Georges Brassens – Bans\nDurée : 1h.\nTout public.\nTarifs : 6 à 15€.\n\n  \nSite internet : escollectif.com\nInstagram : collectif_es\nFacebook : CollectifEs \n\n\nLe Collectif ÈS dirige le Centre Chorégraphique National d’Orléans.  \nConception et direction : Collectif ÈS.\nCréation et interprétation : Sidonie Duret\, Jeremy Martinez\, Émilie Szikora.\nRégie : Titouan Geoffroy.\nProduction :  Collectif ÈS. \nPhoto : ©Collectif ÈS
URL:https://theatredegivors.fr/spectacle/jackpot-collectif-es-danse/
LOCATION:Salle Georges Brassens\, 1 avenue Anatole France\, Givors\, 69700\, France
CATEGORIES:Saison 2025-2026
END:VEVENT
END:VCALENDAR